BEGIN:VCALENDAR
VERSION:2.0
CALSCALE:GREGORIAN
PRODID:-//Diputació de Barcelona//DibaCMS//EN
BEGIN:VEVENT
UID:31554
DTSTAMP:20260423T034359
DTSTART:20241118T000000
DTEND:20241126T000000
SUMMARY:Instal·lació d'artivisme. En xarxa vermella
LOCATION:08110 Montcada i Reixac
METHOD:PUBLISH
X-WR-CALNAME:oac@montcada.org
X-WR-TIMEZONE:Europe/Madrid
DESCRIPTION:
URI:https://www.montcada.cat/actualitat/agenda/installacio-dartivisme-en-xarxa-vermella.html
CLASS:PUBLIC
END:VEVENT
END:VCALENDAR
