BEGIN:VCALENDAR
VERSION:2.0
CALSCALE:GREGORIAN
PRODID:-//Diputació de Barcelona//DibaCMS//EN
BEGIN:VEVENT
UID:31550
DTSTAMP:20260423T022625
DTSTART:20241125T120000
DTEND:20241125T183000
SUMMARY:Dia Internacional contra les violències masclistes
LOCATION:
METHOD:PUBLISH
X-WR-CALNAME:oac@montcada.org
X-WR-TIMEZONE:Europe/Madrid
DESCRIPTION:
URI:https://www.montcada.cat/actualitat/agenda/dia-internacional-contra-les-violencies-masclistes.html
CLASS:PUBLIC
END:VEVENT
END:VCALENDAR
