BEGIN:VCALENDAR
VERSION:2.0
CALSCALE:GREGORIAN
PRODID:-//Diputació de Barcelona//DibaCMS//EN
BEGIN:VEVENT
UID:31520
DTSTAMP:20260423T124233
DTSTART:20241109T110000
DTEND:20241117T110000
SUMMARY:Setmana de la Ciència a Montcada i Reixac
LOCATION:Carrer Major, 32 - Carrer Domènec Fins, 15 08110 Montcada i Reixac
METHOD:PUBLISH
X-WR-CALNAME:oac@montcada.org
X-WR-TIMEZONE:Europe/Madrid
DESCRIPTION:
URI:https://www.montcada.cat/actualitat/agenda/setmana-de-la-ciencia-a-montcada-i-reixac.html
CLASS:PUBLIC
END:VEVENT
END:VCALENDAR
