BEGIN:VCALENDAR
VERSION:2.0
CALSCALE:GREGORIAN
PRODID:-//Diputació de Barcelona//DibaCMS//EN
BEGIN:VEVENT
UID:31434
DTSTAMP:20260423T061655
DTSTART:20241114T180000
DTEND:20241208T000000
SUMMARY:Exposició. Damunt la pell, el teu nom de dona
LOCATION: c. Masia, 39       08110 Montcada i Reixac
METHOD:PUBLISH
X-WR-CALNAME:oac@montcada.org
X-WR-TIMEZONE:Europe/Madrid
DESCRIPTION:
URI:https://www.montcada.cat/actualitat/agenda/exposicio-damunt-la-pell-el-teu-nom-de-dona.html
CLASS:PUBLIC
END:VEVENT
END:VCALENDAR
