BEGIN:VCALENDAR
VERSION:2.0
CALSCALE:GREGORIAN
PRODID:-//Diputació de Barcelona//DibaCMS//EN
BEGIN:VEVENT
UID:31427
DTSTAMP:20260422T104344
DTSTART:20250116T180000
DTEND:20250207T200000
SUMMARY:Exposició fotogràfica. Quan tot s'ensorra
LOCATION:Carrer Major, 32 - Carrer Domènec Fins, 15 08110 Montcada i Reixac
METHOD:PUBLISH
X-WR-CALNAME:oac@montcada.org
X-WR-TIMEZONE:Europe/Madrid
DESCRIPTION:
URI:https://www.montcada.cat/actualitat/agenda/exposicio-fotografica-quan-tot-sensorra.html
CLASS:PUBLIC
END:VEVENT
END:VCALENDAR
