BEGIN:VCALENDAR
VERSION:2.0
CALSCALE:GREGORIAN
PRODID:-//Diputació de Barcelona//DibaCMS//EN
BEGIN:VEVENT
UID:31393
DTSTAMP:20260423T152843
DTSTART:20241031T170000
DTEND:20241031T170000
SUMMARY:Castanyada plaça Lluís Companys
LOCATION:Plaça Lluís Companys 08110 Montcada i Reixac
METHOD:PUBLISH
X-WR-CALNAME:oac@montcada.org
X-WR-TIMEZONE:Europe/Madrid
DESCRIPTION:
URI:https://www.montcada.cat/actualitat/agenda/castanyada-placa-lluis-companys.html
CLASS:PUBLIC
END:VEVENT
END:VCALENDAR
