BEGIN:VCALENDAR
VERSION:2.0
CALSCALE:GREGORIAN
PRODID:-//Diputació de Barcelona//DibaCMS//EN
BEGIN:VEVENT
UID:31378
DTSTAMP:20260420T211957
DTSTART:20241107T150000
DTEND:20241108T180000
SUMMARY:Mercat gratuït d'intercanvi de roba
LOCATION:Parc del Turó Blau 
METHOD:PUBLISH
X-WR-CALNAME:oac@montcada.org
X-WR-TIMEZONE:Europe/Madrid
DESCRIPTION:Si ja no et val, passa-la!

URI:https://www.montcada.cat/actualitat/agenda/31378-mercat-gratuit-dintercanvi-de-roba.html
CLASS:PUBLIC
END:VEVENT
END:VCALENDAR
