BEGIN:VCALENDAR
VERSION:2.0
CALSCALE:GREGORIAN
PRODID:-//Diputació de Barcelona//DibaCMS//EN
BEGIN:VEVENT
UID:31130
DTSTAMP:20260423T232903
DTSTART:20241024T183000
DTEND:20241024T183000
SUMMARY:Ple extraordinari ordenances fiscals 2025
LOCATION:Carrer Major, 32 - Carrer Domènec Fins, 15 08110 Montcada i Reixac
METHOD:PUBLISH
X-WR-CALNAME:oac@montcada.org
X-WR-TIMEZONE:Europe/Madrid
DESCRIPTION:Sessió extraordinària

URI:https://www.montcada.cat/actualitat/agenda/31130-ple-extraordinari-ordenances-fiscals-2025.html
CLASS:PUBLIC
END:VEVENT
END:VCALENDAR
