BEGIN:VCALENDAR
VERSION:2.0
CALSCALE:GREGORIAN
PRODID:-//Diputació de Barcelona//DibaCMS//EN
BEGIN:VEVENT
UID:31039
DTSTAMP:20260421T181143
DTSTART:20241010T183000
DTEND:20241010T183000
SUMMARY:Acte. Penjada pancarta càncer de mama
LOCATION: pl. de l'Església, 12       08110 Montcada i Reixac
METHOD:PUBLISH
X-WR-CALNAME:oac@montcada.org
X-WR-TIMEZONE:Europe/Madrid
DESCRIPTION:
URI:https://www.montcada.cat/ajuntament/govern/agenda-politica/hemeroteca-agenda-politica/acte-penjada-pancarta-cancer-de-mama.html
CLASS:PUBLIC
END:VEVENT
END:VCALENDAR
