BEGIN:VCALENDAR
VERSION:2.0
CALSCALE:GREGORIAN
PRODID:-//Diputació de Barcelona//DibaCMS//EN
BEGIN:VEVENT
UID:31038
DTSTAMP:20260421T121019
DTSTART:20241010T120000
DTEND:20241010T120000
SUMMARY:Reunió. Amics del Ferrocarril de Montcada i Reixac
LOCATION:
METHOD:PUBLISH
X-WR-CALNAME:oac@montcada.org
X-WR-TIMEZONE:Europe/Madrid
DESCRIPTION:
URI:https://www.montcada.cat/ajuntament/govern/agenda-politica/hemeroteca-agenda-politica/31038-reunio-amics-del-ferrocarril-de-montcada-i-reixac.html
CLASS:PUBLIC
END:VEVENT
END:VCALENDAR
