BEGIN:VCALENDAR
VERSION:2.0
CALSCALE:GREGORIAN
PRODID:-//Diputació de Barcelona//DibaCMS//EN
BEGIN:VEVENT
UID:31037
DTSTAMP:20260421T145709
DTSTART:20241010T120000
DTEND:20241010T120000
SUMMARY:Reunió. Salvador Asbert, AGSEUC
LOCATION:Av. de la Unitat, 6 08110  Montcada i Reixac
METHOD:PUBLISH
X-WR-CALNAME:oac@montcada.org
X-WR-TIMEZONE:Europe/Madrid
DESCRIPTION:Tema: Pla de Millora de Polígons

URI:https://www.montcada.cat/ajuntament/govern/agenda-politica/hemeroteca-agenda-politica/reunio-salvador-asbert-agseuc.html
CLASS:PUBLIC
END:VEVENT
END:VCALENDAR
