BEGIN:VCALENDAR
VERSION:2.0
CALSCALE:GREGORIAN
PRODID:-//Diputació de Barcelona//DibaCMS//EN
BEGIN:VEVENT
UID:31023
DTSTAMP:20260424T073220
DTSTART:20241020T110000
DTEND:20241020T110000
SUMMARY:Contes d’aigua
LOCATION:Parc de les Aigües  08110 Montcada i Reixac
METHOD:PUBLISH
X-WR-CALNAME:oac@montcada.org
X-WR-TIMEZONE:Europe/Madrid
DESCRIPTION:
URI:https://www.montcada.cat/actualitat/agenda/contes-daigua.html
CLASS:PUBLIC
END:VEVENT
END:VCALENDAR
