BEGIN:VCALENDAR
VERSION:2.0
CALSCALE:GREGORIAN
PRODID:-//Diputació de Barcelona//DibaCMS//EN
BEGIN:VEVENT
UID:30983
DTSTAMP:20260421T132745
DTSTART:20241010T133000
DTEND:20241010T133000
SUMMARY:Reunió. Associació veïns i comerciantes centre
LOCATION:Av. de la Unitat, 6 08110  Montcada i Reixac
METHOD:PUBLISH
X-WR-CALNAME:oac@montcada.org
X-WR-TIMEZONE:Europe/Madrid
DESCRIPTION:Tema: mobilitat carrer Major

URI:https://www.montcada.cat/ajuntament/govern/agenda-politica/hemeroteca-agenda-politica/reunio-associacio-veins-i-comerciantes-centre.html
CLASS:PUBLIC
END:VEVENT
END:VCALENDAR
