BEGIN:VCALENDAR
VERSION:2.0
CALSCALE:GREGORIAN
PRODID:-//Diputació de Barcelona//DibaCMS//EN
BEGIN:VEVENT
UID:30974
DTSTAMP:20260424T003038
DTSTART:20241029T170000
DTEND:20241029T170000
SUMMARY:Castanyada a la Ribera
LOCATION:Carrer Llevant, 10       08110 Montcada i Reixac
METHOD:PUBLISH
X-WR-CALNAME:oac@montcada.org
X-WR-TIMEZONE:Europe/Madrid
DESCRIPTION:
URI:https://www.montcada.cat/actualitat/agenda/castanyada-a-la-ribera.html
CLASS:PUBLIC
END:VEVENT
END:VCALENDAR
