BEGIN:VCALENDAR
VERSION:2.0
CALSCALE:GREGORIAN
PRODID:-//Diputació de Barcelona//DibaCMS//EN
BEGIN:VEVENT
UID:30894
DTSTAMP:20260421T234326
DTSTART:20241007T093000
DTEND:20241007T093000
SUMMARY:Visita. Veïna
LOCATION:
METHOD:PUBLISH
X-WR-CALNAME:oac@montcada.org
X-WR-TIMEZONE:Europe/Madrid
DESCRIPTION:
URI:https://www.montcada.cat/ajuntament/govern/agenda-politica/hemeroteca-agenda-politica/visita-veina.html
CLASS:PUBLIC
END:VEVENT
END:VCALENDAR
