BEGIN:VCALENDAR
VERSION:2.0
CALSCALE:GREGORIAN
PRODID:-//Diputació de Barcelona//DibaCMS//EN
BEGIN:VEVENT
UID:30875
DTSTAMP:20260424T151107
DTSTART:20241009T173000
DTEND:20241009T173000
SUMMARY:L'hora del conte amb la Sandra Rossi
LOCATION: c. Tarragona, 32       08110 Montcada i Reixac
METHOD:PUBLISH
X-WR-CALNAME:oac@montcada.org
X-WR-TIMEZONE:Europe/Madrid
DESCRIPTION:
URI:https://www.montcada.cat/actualitat/agenda/lhora-del-conte-amb-la-sandra-rossi.html
CLASS:PUBLIC
END:VEVENT
END:VCALENDAR
