BEGIN:VCALENDAR
VERSION:2.0
CALSCALE:GREGORIAN
PRODID:-//Diputació de Barcelona//DibaCMS//EN
BEGIN:VEVENT
UID:30871
DTSTAMP:20260423T233059
DTSTART:20241024T190000
DTEND:20241024T190000
SUMMARY:Club de fantasia i ciència ficció. Riu de safirs
LOCATION: c. Tarragona, 32       08110 Montcada i Reixac
METHOD:PUBLISH
X-WR-CALNAME:oac@montcada.org
X-WR-TIMEZONE:Europe/Madrid
DESCRIPTION:
URI:https://www.montcada.cat/actualitat/agenda/club-de-fantasia-i-ciencia-ficcio-riu-de-safirs.html
CLASS:PUBLIC
END:VEVENT
END:VCALENDAR
