BEGIN:VCALENDAR
VERSION:2.0
CALSCALE:GREGORIAN
PRODID:-//Diputació de Barcelona//DibaCMS//EN
BEGIN:VEVENT
UID:30866
DTSTAMP:20260424T020339
DTSTART:20241017T180000
DTEND:20241017T180000
SUMMARY:Presentació llibre. <I>Ellos también son alguien</I>
LOCATION: c. Tarragona, 32       08110 Montcada i Reixac
METHOD:PUBLISH
X-WR-CALNAME:oac@montcada.org
X-WR-TIMEZONE:Europe/Madrid
DESCRIPTION:
URI:https://www.montcada.cat/actualitat/agenda/presentacio-llibre-iellos-tambien-son-alguieni.html
CLASS:PUBLIC
END:VEVENT
END:VCALENDAR
