BEGIN:VCALENDAR
VERSION:2.0
CALSCALE:GREGORIAN
PRODID:-//Diputació de Barcelona//DibaCMS//EN
BEGIN:VEVENT
UID:30831
DTSTAMP:20260424T163638
DTSTART:20241005T110000
DTEND:20241005T180000
SUMMARY:Festa reivindicativa del moviment veïnal
LOCATION:08110 Montcada i Reixac
METHOD:PUBLISH
X-WR-CALNAME:oac@montcada.org
X-WR-TIMEZONE:Europe/Madrid
DESCRIPTION:
URI:https://www.montcada.cat/actualitat/agenda/festa-reivindicativa-del-moviment-veinal.html
CLASS:PUBLIC
END:VEVENT
END:VCALENDAR
