BEGIN:VCALENDAR
VERSION:2.0
CALSCALE:GREGORIAN
PRODID:-//Diputació de Barcelona//DibaCMS//EN
BEGIN:VEVENT
UID:30731
DTSTAMP:20260424T193634
DTSTART:20240919T000000
DTEND:20241025T200000
SUMMARY:Exposició. Univers de les coses petites
LOCATION:Carrer Geranis, s/n       08110 Montcada i Reixac
METHOD:PUBLISH
X-WR-CALNAME:oac@montcada.org
X-WR-TIMEZONE:Europe/Madrid
DESCRIPTION:Fotografies de Montse Comerma

URI:https://www.montcada.cat/actualitat/agenda/exposicio-univers-de-les-coses-petites.html
CLASS:PUBLIC
END:VEVENT
END:VCALENDAR
