BEGIN:VCALENDAR
VERSION:2.0
CALSCALE:GREGORIAN
PRODID:-//Diputació de Barcelona//DibaCMS//EN
BEGIN:VEVENT
UID:30715
DTSTAMP:20260421T120801
DTSTART:20240929T110000
DTEND:20240929T110000
SUMMARY:Acte. Concert tribut Frank Sinatra
LOCATION:Carrer Montiu 08110 Montcada i Reixac
METHOD:PUBLISH
X-WR-CALNAME:oac@montcada.org
X-WR-TIMEZONE:Europe/Madrid
DESCRIPTION:Dia Internacional de les persones grans

URI:https://www.montcada.cat/ajuntament/govern/agenda-politica/hemeroteca-agenda-politica/acte-concert-tribut-frank-sinatra.html
CLASS:PUBLIC
END:VEVENT
END:VCALENDAR
