BEGIN:VCALENDAR
VERSION:2.0
CALSCALE:GREGORIAN
PRODID:-//Diputació de Barcelona//DibaCMS//EN
BEGIN:VEVENT
UID:30676
DTSTAMP:20260424T212416
DTSTART:20240927T183000
DTEND:20240927T183000
SUMMARY:Jornada per la salut mental
LOCATION: pl. de l'Església, 12       08110 Montcada i Reixac
METHOD:PUBLISH
X-WR-CALNAME:oac@montcada.org
X-WR-TIMEZONE:Europe/Madrid
DESCRIPTION:Intervindran Toni Barbará, Lluís Ciprés, Ana Belén Martínez i Claudia González

URI:https://www.montcada.cat/actualitat/agenda/jornada-per-la-salut-mental.html
CLASS:PUBLIC
END:VEVENT
END:VCALENDAR
