BEGIN:VCALENDAR
VERSION:2.0
CALSCALE:GREGORIAN
PRODID:-//Diputació de Barcelona//DibaCMS//EN
BEGIN:VEVENT
UID:30675
DTSTAMP:20260424T194425
DTSTART:20240926T190000
DTEND:20240926T190000
SUMMARY:Xerrada. Què és l'astrologia i com ens pot ajudar
LOCATION:Parc Salvador Allende, s/n 08110 Montcada i Reixac
METHOD:PUBLISH
X-WR-CALNAME:oac@montcada.org
X-WR-TIMEZONE:Europe/Madrid
DESCRIPTION:A càrrec d'Àngels Secanella

URI:https://www.montcada.cat/actualitat/agenda/xerrada-que-es-lastrologia-i-com-ens-pot-ajudar.html
CLASS:PUBLIC
END:VEVENT
END:VCALENDAR
