BEGIN:VCALENDAR
VERSION:2.0
CALSCALE:GREGORIAN
PRODID:-//Diputació de Barcelona//DibaCMS//EN
BEGIN:VEVENT
UID:30666
DTSTAMP:20260424T104323
DTSTART:20241015T100000
DTEND:20241015T100000
SUMMARY:Jornada portes obertes Hort comunitari Mas Duran
LOCATION:08110 Montcada i Reixac
METHOD:PUBLISH
X-WR-CALNAME:oac@montcada.org
X-WR-TIMEZONE:Europe/Madrid
DESCRIPTION:Vine a conèixer-lo!

URI:https://www.montcada.cat/actualitat/agenda/30666-jornada-portes-obertes-hort-comunitari-mas-duran.html
CLASS:PUBLIC
END:VEVENT
END:VCALENDAR
