BEGIN:VCALENDAR
VERSION:2.0
CALSCALE:GREGORIAN
PRODID:-//Diputació de Barcelona//DibaCMS//EN
BEGIN:VEVENT
UID:30598
DTSTAMP:20260424T193735
DTSTART:20240925T183000
DTEND:20240925T183000
SUMMARY:Conversa sobre l'alçament militar de 1936 a Barcelona
LOCATION:Carrer Major, 47       08110 Montcada i Reixac
METHOD:PUBLISH
X-WR-CALNAME:oac@montcada.org
X-WR-TIMEZONE:Europe/Madrid
DESCRIPTION:
URI:https://www.montcada.cat/actualitat/agenda/conversa-sobre-lalcament-militar-de-1936-a-barcelona.html
CLASS:PUBLIC
END:VEVENT
END:VCALENDAR
