BEGIN:VCALENDAR
VERSION:2.0
CALSCALE:GREGORIAN
PRODID:-//Diputació de Barcelona//DibaCMS//EN
BEGIN:VEVENT
UID:30595
DTSTAMP:20260421T203430
DTSTART:20250329T200000
DTEND:20250329T200000
SUMMARY:Teatre. Muaksss!
LOCATION:Carrer Tarragona, 32       08110 Montcada i Reixac
METHOD:PUBLISH
X-WR-CALNAME:oac@montcada.org
X-WR-TIMEZONE:Europe/Madrid
DESCRIPTION:Aula de Teatre de Montcada i Reixac

URI:https://www.montcada.cat/actualitat/agenda/teatre-muaksss.html
CLASS:PUBLIC
END:VEVENT
END:VCALENDAR
