BEGIN:VCALENDAR
VERSION:2.0
CALSCALE:GREGORIAN
PRODID:-//Diputació de Barcelona//DibaCMS//EN
BEGIN:VEVENT
UID:30594
DTSTAMP:20260423T021830
DTSTART:20241130T180000
DTEND:20241130T180000
SUMMARY:Teatre. Els bojos del bisturí
LOCATION:
METHOD:PUBLISH
X-WR-CALNAME:oac@montcada.org
X-WR-TIMEZONE:Europe/Madrid
DESCRIPTION:ENTRADES EXHAURIDES!

URI:https://www.montcada.cat/actualitat/agenda/teatre-els-bojos-del-bisturi.html
CLASS:PUBLIC
END:VEVENT
END:VCALENDAR
