BEGIN:VCALENDAR
VERSION:2.0
CALSCALE:GREGORIAN
PRODID:-//Diputació de Barcelona//DibaCMS//EN
BEGIN:VEVENT
UID:30592
DTSTAMP:20260424T135632
DTSTART:20241001T180000
DTEND:20241001T180000
SUMMARY:Col·locació primera pedra 72 pisos HPO a Mas Rampinyo
LOCATION:Carrer Alt de Sant Pere (la Rasa) 
METHOD:PUBLISH
X-WR-CALNAME:oac@montcada.org
X-WR-TIMEZONE:Europe/Madrid
DESCRIPTION:
URI:https://www.montcada.cat/actualitat/agenda/collocacio-primera-pedra-72-pisos-hpo-a-mas-rampinyo.html
CLASS:PUBLIC
END:VEVENT
END:VCALENDAR
