BEGIN:VCALENDAR
VERSION:2.0
CALSCALE:GREGORIAN
PRODID:-//Diputació de Barcelona//DibaCMS//EN
BEGIN:VEVENT
UID:30554
DTSTAMP:20260421T114522
DTSTART:20240919T133000
DTEND:20240919T133000
SUMMARY:Reunió. UAC Montcada Centre Comerç
LOCATION:Botiga AMMBHAC 
METHOD:PUBLISH
X-WR-CALNAME:oac@montcada.org
X-WR-TIMEZONE:Europe/Madrid
DESCRIPTION:
URI:https://www.montcada.cat/ajuntament/govern/agenda-politica/hemeroteca-agenda-politica/reunio-uac-montcada-centre-comerc.html
CLASS:PUBLIC
END:VEVENT
END:VCALENDAR
