BEGIN:VCALENDAR
VERSION:2.0
CALSCALE:GREGORIAN
PRODID:-//Diputació de Barcelona//DibaCMS//EN
BEGIN:VEVENT
UID:30528
DTSTAMP:20260421T120927
DTSTART:20240917T173000
DTEND:20240917T173000
SUMMARY:Reunió. Ateneu ABI
LOCATION:Av. de la Unitat, 6 08110  Montcada i Reixac
METHOD:PUBLISH
X-WR-CALNAME:oac@montcada.org
X-WR-TIMEZONE:Europe/Madrid
DESCRIPTION:Tema: estat actual llicència obres

URI:https://www.montcada.cat/ajuntament/govern/agenda-politica/hemeroteca-agenda-politica/reunio-ateneu-abi.html
CLASS:PUBLIC
END:VEVENT
END:VCALENDAR
