BEGIN:VCALENDAR
VERSION:2.0
CALSCALE:GREGORIAN
PRODID:-//Diputació de Barcelona//DibaCMS//EN
BEGIN:VEVENT
UID:30485
DTSTAMP:20260424T005040
DTSTART:20241027T170000
DTEND:20241027T190000
SUMMARY:Ball de la gent gran
LOCATION: c. Masia, 39       08110 Montcada i Reixac
METHOD:PUBLISH
X-WR-CALNAME:oac@montcada.org
X-WR-TIMEZONE:Europe/Madrid
DESCRIPTION:Música en directe amb Liberty, la Petita Gran Orquestra

URI:https://www.montcada.cat/actualitat/agenda/30485-ball-de-la-gent-gran.html
CLASS:PUBLIC
END:VEVENT
END:VCALENDAR
