BEGIN:VCALENDAR
VERSION:2.0
CALSCALE:GREGORIAN
PRODID:-//Diputació de Barcelona//DibaCMS//EN
BEGIN:VEVENT
UID:30484
DTSTAMP:20260424T031621
DTSTART:20240929T110000
DTEND:20240929T110000
SUMMARY:Música. Agustí Burriel, tribut a Frank Sinatra
LOCATION:Carrer Montiu 08110 Montcada i Reixac
METHOD:PUBLISH
X-WR-CALNAME:oac@montcada.org
X-WR-TIMEZONE:Europe/Madrid
DESCRIPTION:En finalitzar l'acte, hi haurà vermut per al públic assistent

URI:https://www.montcada.cat/actualitat/agenda/musica-agusti-burriel-tribut-a-frank-sinatra.html
CLASS:PUBLIC
END:VEVENT
END:VCALENDAR
