BEGIN:VCALENDAR
VERSION:2.0
CALSCALE:GREGORIAN
PRODID:-//Diputació de Barcelona//DibaCMS//EN
BEGIN:VEVENT
UID:30426
DTSTAMP:20260421T120622
DTSTART:20240919T163000
DTEND:20240919T163000
SUMMARY:Reunió. Frederic Ximeno, director del Àrea d'Acció Climàtica de l'Àrea Metropolitana de Barcelona
LOCATION:Àrea Metropolitana de Barcelona 
METHOD:PUBLISH
X-WR-CALNAME:oac@montcada.org
X-WR-TIMEZONE:Europe/Madrid
DESCRIPTION:
URI:https://www.montcada.cat/ajuntament/govern/agenda-politica/hemeroteca-agenda-politica/reunio-frederic-ximeno-director-del-area-daccio-climatica-de-larea-metropolitana-de-barcelona.html
CLASS:PUBLIC
END:VEVENT
END:VCALENDAR
