BEGIN:VCALENDAR
VERSION:2.0
CALSCALE:GREGORIAN
PRODID:-//Diputació de Barcelona//DibaCMS//EN
BEGIN:VEVENT
UID:30407
DTSTAMP:20260421T144557
DTSTART:20240913T090000
DTEND:20240913T090000
SUMMARY:Reunió. Veïna
LOCATION:Av. de la Unitat, 6 08110  Montcada i Reixac
METHOD:PUBLISH
X-WR-CALNAME:oac@montcada.org
X-WR-TIMEZONE:Europe/Madrid
DESCRIPTION:
URI:https://www.montcada.cat/ajuntament/govern/agenda-politica/hemeroteca-agenda-politica/30407-reunio-veina.html
CLASS:PUBLIC
END:VEVENT
END:VCALENDAR
