BEGIN:VCALENDAR
VERSION:2.0
CALSCALE:GREGORIAN
PRODID:-//Diputació de Barcelona//DibaCMS//EN
BEGIN:VEVENT
UID:30405
DTSTAMP:20260421T182016
DTSTART:20240912T123000
DTEND:20240912T123000
SUMMARY:Reunió. Marta Sánchez, escultora i pintora local
LOCATION:
METHOD:PUBLISH
X-WR-CALNAME:oac@montcada.org
X-WR-TIMEZONE:Europe/Madrid
DESCRIPTION:
URI:https://www.montcada.cat/ajuntament/govern/agenda-politica/hemeroteca-agenda-politica/reunio-marta-sanchez-escultora-i-pintora-local.html
CLASS:PUBLIC
END:VEVENT
END:VCALENDAR
