BEGIN:VCALENDAR
VERSION:2.0
CALSCALE:GREGORIAN
PRODID:-//Diputació de Barcelona//DibaCMS//EN
BEGIN:VEVENT
UID:30402
DTSTAMP:20260421T232841
DTSTART:20240910T120000
DTEND:20240910T120000
SUMMARY:Acte. Minut de silenci en record de les víctimes del tren
LOCATION:
METHOD:PUBLISH
X-WR-CALNAME:oac@montcada.org
X-WR-TIMEZONE:Europe/Madrid
DESCRIPTION:
URI:https://www.montcada.cat/ajuntament/govern/agenda-politica/hemeroteca-agenda-politica/acte-minut-de-silenci-en-record-de-les-victimes-del-tren.html
CLASS:PUBLIC
END:VEVENT
END:VCALENDAR
