BEGIN:VCALENDAR
VERSION:2.0
CALSCALE:GREGORIAN
PRODID:-//Diputació de Barcelona//DibaCMS//EN
BEGIN:VEVENT
UID:30392
DTSTAMP:20260421T164957
DTSTART:20240916T110000
DTEND:20240916T110000
SUMMARY:Entrevista. La Veu de Montcada i Reixac
LOCATION:Av. de la Unitat, 6 08110  Montcada i Reixac
METHOD:PUBLISH
X-WR-CALNAME:oac@montcada.org
X-WR-TIMEZONE:Europe/Madrid
DESCRIPTION:Tema: 1r any de mandat

URI:https://www.montcada.cat/ajuntament/govern/agenda-politica/hemeroteca-agenda-politica/30392-entrevista-la-veu-de-montcada-i-reixac.html
CLASS:PUBLIC
END:VEVENT
END:VCALENDAR
