BEGIN:VCALENDAR
VERSION:2.0
CALSCALE:GREGORIAN
PRODID:-//Diputació de Barcelona//DibaCMS//EN
BEGIN:VEVENT
UID:30391
DTSTAMP:20260424T205952
DTSTART:20240915T100000
DTEND:20240915T100000
SUMMARY:Acte. Solemne Besamanos - Cofradia Virgen de los Dolores
LOCATION:Carrer Drac, s/n       08110 Montcada i Reixac
METHOD:PUBLISH
X-WR-CALNAME:oac@montcada.org
X-WR-TIMEZONE:Europe/Madrid
DESCRIPTION:
URI:https://www.montcada.cat/ajuntament/govern/agenda-politica/hemeroteca-agenda-politica/acte-solemne-besamanos-cofradia-virgen-de-los-dolores.html
CLASS:PUBLIC
END:VEVENT
END:VCALENDAR
