BEGIN:VCALENDAR
VERSION:2.0
CALSCALE:GREGORIAN
PRODID:-//Diputació de Barcelona//DibaCMS//EN
BEGIN:VEVENT
UID:30384
DTSTAMP:20260425T001232
DTSTART:20240908T110000
DTEND:20240908T110000
SUMMARY:Jornada sobre basses i biodiversitat 
LOCATION:Torre dels Frares (carretera de Sant Adrià a la Roca, 6) 
METHOD:PUBLISH
X-WR-CALNAME:oac@montcada.org
X-WR-TIMEZONE:Europe/Madrid
DESCRIPTION:
URI:https://www.montcada.cat/actualitat/agenda/jornada-sobre-basses-i-biodiversitat-.html
CLASS:PUBLIC
END:VEVENT
END:VCALENDAR
