BEGIN:VCALENDAR
VERSION:2.0
CALSCALE:GREGORIAN
PRODID:-//Diputació de Barcelona//DibaCMS//EN
BEGIN:VEVENT
UID:30382
DTSTAMP:20260422T033805
DTSTART:20240906T213000
DTEND:20240906T213000
SUMMARY:Acte. Nit Boja
LOCATION:
METHOD:PUBLISH
X-WR-CALNAME:oac@montcada.org
X-WR-TIMEZONE:Europe/Madrid
DESCRIPTION:Festa major Terra Nostra

URI:https://www.montcada.cat/ajuntament/govern/agenda-politica/hemeroteca-agenda-politica/acte-nit-boja.html
CLASS:PUBLIC
END:VEVENT
END:VCALENDAR
