BEGIN:VCALENDAR
VERSION:2.0
CALSCALE:GREGORIAN
PRODID:-//Diputació de Barcelona//DibaCMS//EN
BEGIN:VEVENT
UID:30379
DTSTAMP:20260425T001219
DTSTART:20240907T200000
DTEND:20240907T200000
SUMMARY:5à Nit de Jazz
LOCATION:Carretera de la Vallençana, km 7  08110 Montcada i Reixac
METHOD:PUBLISH
X-WR-CALNAME:oac@montcada.org
X-WR-TIMEZONE:Europe/Madrid
DESCRIPTION:Amb l’actuació de la Gumbo Jass Band

URI:https://www.montcada.cat/actualitat/agenda/5a-nit-de-jazz.html
CLASS:PUBLIC
END:VEVENT
END:VCALENDAR
