BEGIN:VCALENDAR
VERSION:2.0
CALSCALE:GREGORIAN
PRODID:-//Diputació de Barcelona//DibaCMS//EN
BEGIN:VEVENT
UID:30375
DTSTAMP:20260421T192250
DTSTART:20241018T110000
DTEND:20241018T123000
SUMMARY:Taller pràctic. Taller de música i moviment
LOCATION:Carrer Geranis, s/n       08110 Montcada i Reixac
METHOD:PUBLISH
X-WR-CALNAME:oac@montcada.org
X-WR-TIMEZONE:Europe/Madrid
DESCRIPTION:A càrrec de Creu Roja

URI:https://www.montcada.cat/actualitat/agenda/taller-practic-taller-de-musica-i-moviment.html
CLASS:PUBLIC
END:VEVENT
END:VCALENDAR
