BEGIN:VCALENDAR
VERSION:2.0
CALSCALE:GREGORIAN
PRODID:-//Diputació de Barcelona//DibaCMS//EN
BEGIN:VEVENT
UID:30373
DTSTAMP:20260421T121230
DTSTART:20241114T170000
DTEND:20241114T170000
SUMMARY:Xerrada. Parlem de l'artrosi
LOCATION:Carrer Llevant, 10       08110 Montcada i Reixac
METHOD:PUBLISH
X-WR-CALNAME:oac@montcada.org
X-WR-TIMEZONE:Europe/Madrid
DESCRIPTION:A càrrec de Jordi mayor i M. Carmen Rodríguez, fisioterapeutes de l'EAP Le Indianes

URI:https://www.montcada.cat/actualitat/agenda/xerrada-parlem-de-lartrosi.html
CLASS:PUBLIC
END:VEVENT
END:VCALENDAR
