BEGIN:VCALENDAR
VERSION:2.0
CALSCALE:GREGORIAN
PRODID:-//Diputació de Barcelona//DibaCMS//EN
BEGIN:VEVENT
UID:30369
DTSTAMP:20260424T153906
DTSTART:20241005T093000
DTEND:20241005T093000
SUMMARY: Jornades d’Arxius i Recerca Local a la riba del riu Ripoll
LOCATION:Sant Lluís, 1 08110 Montcada i Reixac
METHOD:PUBLISH
X-WR-CALNAME:oac@montcada.org
X-WR-TIMEZONE:Europe/Madrid
DESCRIPTION:
URI:https://www.montcada.cat/actualitat/agenda/-jornades-darxius-i-recerca-local-a-la-riba-del-riu-ripoll.html
CLASS:PUBLIC
END:VEVENT
END:VCALENDAR
