BEGIN:VCALENDAR
VERSION:2.0
CALSCALE:GREGORIAN
PRODID:-//Diputació de Barcelona//DibaCMS//EN
BEGIN:VEVENT
UID:30363
DTSTAMP:20260421T233112
DTSTART:20240910T103000
DTEND:20240910T103000
SUMMARY:Reunió. Joan Albert Planella, president CD Montcada i Xavi Soldevilla, president FB Montcada
LOCATION:Av. de la Unitat, 6 08110  Montcada i Reixac
METHOD:PUBLISH
X-WR-CALNAME:oac@montcada.org
X-WR-TIMEZONE:Europe/Madrid
DESCRIPTION:
URI:https://www.montcada.cat/ajuntament/govern/agenda-politica/hemeroteca-agenda-politica/reunio-joan-albert-planella-president-cd-montcada-i-xavi-soldevilla-president-fb-montcada.html
CLASS:PUBLIC
END:VEVENT
END:VCALENDAR
