BEGIN:VCALENDAR
VERSION:2.0
CALSCALE:GREGORIAN
PRODID:-//Diputació de Barcelona//DibaCMS//EN
BEGIN:VEVENT
UID:30353
DTSTAMP:20260421T145907
DTSTART:20240912T193000
DTEND:20241004T140000
SUMMARY:Exposició. Pintures de Karlos Mayet
LOCATION:Carrer Major, 32 - Carrer Domènec Fins, 15 08110 Montcada i Reixac
METHOD:PUBLISH
X-WR-CALNAME:oac@montcada.org
X-WR-TIMEZONE:Europe/Madrid
DESCRIPTION:
URI:https://www.montcada.cat/actualitat/agenda/exposicio-pintures-de-karlos-mayet.html
CLASS:PUBLIC
END:VEVENT
END:VCALENDAR
