BEGIN:VCALENDAR
VERSION:2.0
CALSCALE:GREGORIAN
PRODID:-//Diputació de Barcelona//DibaCMS//EN
BEGIN:VEVENT
UID:30351
DTSTAMP:20260424T224116
DTSTART:20240913T180000
DTEND:20240913T180000
SUMMARY:Acte. Festa Major Can Cuiàs
LOCATION:
METHOD:PUBLISH
X-WR-CALNAME:oac@montcada.org
X-WR-TIMEZONE:Europe/Madrid
DESCRIPTION:Pregó, berenar, correbars i batucada

URI:https://www.montcada.cat/ajuntament/govern/agenda-politica/hemeroteca-agenda-politica/acte-festa-major-can-cuias.html
CLASS:PUBLIC
END:VEVENT
END:VCALENDAR
