BEGIN:VCALENDAR
VERSION:2.0
CALSCALE:GREGORIAN
PRODID:-//Diputació de Barcelona//DibaCMS//EN
BEGIN:VEVENT
UID:30350
DTSTAMP:20260421T164129
DTSTART:20240911T213000
DTEND:20240911T213000
SUMMARY:Acte. Havaneres i rom cremat
LOCATION:Plaça del Poble 08110 Montcada i Reixac
METHOD:PUBLISH
X-WR-CALNAME:oac@montcada.org
X-WR-TIMEZONE:Europe/Madrid
DESCRIPTION:Festa major Terra Nostra

URI:https://www.montcada.cat/ajuntament/govern/agenda-politica/hemeroteca-agenda-politica/acte-havaneres-i-rom-cremat.html
CLASS:PUBLIC
END:VEVENT
END:VCALENDAR
