BEGIN:VCALENDAR
VERSION:2.0
CALSCALE:GREGORIAN
PRODID:-//Diputació de Barcelona//DibaCMS//EN
BEGIN:VEVENT
UID:30349
DTSTAMP:20260422T033936
DTSTART:20240911T210000
DTEND:20240911T210000
SUMMARY:Acte. Globus dels desitjos
LOCATION:Plaça del Poble 08110 Montcada i Reixac
METHOD:PUBLISH
X-WR-CALNAME:oac@montcada.org
X-WR-TIMEZONE:Europe/Madrid
DESCRIPTION:Festa major Terra Nostra

URI:https://www.montcada.cat/ajuntament/govern/agenda-politica/hemeroteca-agenda-politica/acte-globus-dels-desitjos.html
CLASS:PUBLIC
END:VEVENT
END:VCALENDAR
