BEGIN:VCALENDAR
VERSION:2.0
CALSCALE:GREGORIAN
PRODID:-//Diputació de Barcelona//DibaCMS//EN
BEGIN:VEVENT
UID:30348
DTSTAMP:20260421T145856
DTSTART:20240911T190000
DTEND:20240911T190000
SUMMARY:Acte. Sardanes
LOCATION:Plaça del Poble 08110 Montcada i Reixac
METHOD:PUBLISH
X-WR-CALNAME:oac@montcada.org
X-WR-TIMEZONE:Europe/Madrid
DESCRIPTION:Festa major Terra Nostra

URI:https://www.montcada.cat/ajuntament/govern/agenda-politica/hemeroteca-agenda-politica/30348-acte-sardanes.html
CLASS:PUBLIC
END:VEVENT
END:VCALENDAR
